BEGIN:VCALENDAR
VERSION:2.0
PRODID:-//Graduate Women International (GWI) - ECPv4.6.25//NONSGML v1.0//EN
CALSCALE:GREGORIAN
METHOD:PUBLISH
X-WR-CALNAME:Graduate Women International (GWI)
X-ORIGINAL-URL:https://graduatewomen.org
X-WR-CALDESC:Events for Graduate Women International (GWI)
BEGIN:VEVENT
DTSTART;VALUE=DATE:20110530
DTEND;VALUE=DATE:20110618
DTSTAMP:20260420T113251
CREATED:20140115T181233Z
LAST-MODIFIED:20140115T181233Z
UID:4458-1306713600-1308355199@graduatewomen.org
SUMMARY:Committee on the Rights of the Child (CRC)
DESCRIPTION:57th session \nWebsite \n
URL:https://graduatewomen.org/event/committee-on-the-rights-of-the-child-crc-2/
LOCATION:Palais Wilson\, 52 rue des Pâquis\, Geneva\, 1201\, Switzerland
END:VEVENT
END:VCALENDAR